BEGIN:VCALENDAR
VERSION:2.0
PRODID:nkc_event TYPO3 Extension
METHOD:PUBLISH
BEGIN:VEVENT
UID:fc83bd65d4f082dcb8a31d95a9f49cfb
LOCATION:Hauptkirche St. Michaelis
SUMMARY:Evangelische Messe
DESCRIPTION:Evangelische Messe mit Kinderkirche und Chormusik":"W.A. Mozart":" Credo Messe KV 257
CLASS:PUBLIC
DTSTART:20260531T080000Z
DTEND:20260531T090000Z
DTSTAMP:20260423T075016Z
END:VEVENT

END:VCALENDAR