BEGIN:VCALENDAR
VERSION:2.0
PRODID:nkc_event TYPO3 Extension
METHOD:PUBLISH
BEGIN:VEVENT
UID:4da01e13149945dac0fa61eba24eddab
LOCATION:St. Michael Kirche Flensburg
SUMMARY:Mit Andersdenkenden reden lernen":" Praxisworkshop
DESCRIPTION:Mit Andersdenkenden reden lernenDie Fronten zwischen Menschen\, die verschiedene Weltanschauungen vertreten\, sind zunehmend verhärtet. Immer häufiger gilt es\, sich im gesellschaftlichen Diskurs mit den Standpunkten Andersdenkender auseinanderzusetzen.Im Seminar lernen die Teilnehmenden anhand praktischer Übungen\, souverän auf Äußerungen und Argumente zu reagieren\, die sie nicht teilen können - und dabei im Gespräch zu bleiben. Wir trainieren unterschiedliche Strategien\, die dabei helfen\, Menschen im persönlichen Gespräch und im öffentlichen Raum souverän und konstruktiv zu begegnen. Wir wenden diese Techniken direkt auf aktuelle Beispiele und Alltagssituationen an.Der Praxisworkshop konzentriert sich nach kurzer theoretischer Einführung schwerpunktmäßig auf das Einüben der jeweiligen Gesprächstechniken. Er richtet sich sowohl an Personen\, die noch nicht mit dem Thema zu tun hatten\, als auch an solche\, die bereits einen oder mehrere unserer Workshops „Mit Andersdenkenden reden lernen“ besucht haben.Weitere Termine in diesem Jahr":" 26. September\, 7. NovemberDie Veranstaltung an allen Terminen findet statt in der Jugendkirche Flensburg von 9.30-14 Uhr. Die Teilnahme ist kostenlos\, eine Anmeldung bei mareike.brombacher@kirche-slfl.de ab sofort möglich\, die Teilnehmendenzahl ist begrenzt. Für Verpflegung ist gesorgt. 
CLASS:PUBLIC
DTSTART:20261107T083000Z
DTEND:20261107T130000Z
DTSTAMP:20260425T142817Z
END:VEVENT

END:VCALENDAR