BEGIN:VCALENDAR
VERSION:2.0
PRODID:nkc_event TYPO3 Extension
METHOD:PUBLISH
BEGIN:VEVENT
UID:848ed213840f8ac1ebe85ba40f3bc6a4
LOCATION:Zum guten Hirten
SUMMARY:Beschwingter Gottesdienst mit Saxophon-Musik
DESCRIPTION:
CLASS:PUBLIC
DTSTART:20260531T090000Z
DTEND:20260531T100000Z
DTSTAMP:20260423T103438Z
END:VEVENT

END:VCALENDAR