BEGIN:VCALENDAR
VERSION:2.0
PRODID:nkc_event TYPO3 Extension
METHOD:PUBLISH
BEGIN:VEVENT
UID:16da6acca85314619a7d6df80c62d9ea
LOCATION:St. Johanneskirche Kleinsolt
SUMMARY:Openair Johanni-Andacht mit dem Singkreis
DESCRIPTION:
CLASS:PUBLIC
DTSTART:20260624T160000Z
DTEND:20260624T170000Z
DTSTAMP:20260425T155556Z
END:VEVENT

END:VCALENDAR