BEGIN:VCALENDAR
VERSION:2.0
PRODID:nkc_event TYPO3 Extension
METHOD:PUBLISH
BEGIN:VEVENT
UID:de48361df1774dcd21e4334ccc2c81d9
LOCATION:7.0 Kirche St. Nicolai
SUMMARY:Benefizkonzert | Demokratìa | Olga Shkrygunova (Klavier) und Iris Siegfried (Geige und Gesang)
DESCRIPTION:Am 12. April präsentieren in der Eckernförder St. Nicolai-Kirche die ehemaligen Mitglieder des bekannten Ensembles „Salut Salon“\, Olga Shkrygunova (Klavier) und Iris Siegfried (Violine und Gesang) ihr bewegendes Konzert „Demokratià“.Eröffnet wird diese musikalischen Hommage an die Demokratie mit einem Orgelvorspiel von Katja Kanowski.Dieses Herzensprojekt inspiriert zum Nachdenken und ist ein musikalisches Manifest für die Demokratie.Das Programm umfasst sowohl eigene Songs und Chansons als auch klassische Werke von Komponisten wie Beethoven\, Clara Schumann\, Mozart\, Rameau und Piazzola.Das Konzert steht nicht nur im Zeichen der Verbindung von klassischer Musik und Demokratie\, sondern auch der Solidarität und Menschlichkeit":" Der Erlös des Abends kommt dem erneut in diesem Jahr stattfindenden Urlaubsprojekt für ukrainische Kriegswaisen mit einigen ihrer sie begleitenden verwitweten Mütter zugute\, die im Sommer für eine zwei-wöchige Auszeit vom Krieg nach Eckernförde zur Erholung eingeladen werden.Der Eintritt zu diesem so außergewöhnlichen Konzert ist frei\, doch wird sehr herzlich um eine Spende gebeten\, damit diesen so schwer vom Schicksal getroffenen Menschen Erholung und Hoffnung geschenkt werden kann.
CLASS:PUBLIC
DTSTART:20250412T170000Z
DTEND:20250412T180000Z
DTSTAMP:20260424T170614Z
END:VEVENT

END:VCALENDAR