BEGIN:VCALENDAR
VERSION:2.0
PRODID:nkc_event TYPO3 Extension
METHOD:PUBLISH
BEGIN:VEVENT
UID:20674e5d47284705ed0eb4c384720526
LOCATION:St. Ansgar-Kirche
SUMMARY:Info-Abend zur Konfirmation 2028
DESCRIPTION:
CLASS:PUBLIC
DTSTART:20260603T160000Z
DTEND:20260603T170000Z
DTSTAMP:20260423T164810Z
END:VEVENT

END:VCALENDAR