BEGIN:VCALENDAR
VERSION:2.0
PRODID:nkc_event TYPO3 Extension
METHOD:PUBLISH
BEGIN:VEVENT
UID:43c230cb3ab49c888124323bddeb5f4a
LOCATION:Heilgeistkirche
SUMMARY:Seminar Abendlieder Für":" fortgeschrittene Bläser
DESCRIPTION:Info und Anmeldung":" www.posaunenwerk-emvau.de
CLASS:PUBLIC
DTSTART:20261108T090000Z
DTEND:20261108T190000Z
DTSTAMP:20260422T032847Z
END:VEVENT

END:VCALENDAR