BEGIN:VCALENDAR
VERSION:2.0
PRODID:nkc_event TYPO3 Extension
METHOD:PUBLISH
BEGIN:VEVENT
UID:9ca74e48971debff5b52d4f3baea81e0
LOCATION:Friedenskirche
SUMMARY:„völlig losgelöst??!!“
DESCRIPTION:
CLASS:PUBLIC
DTSTART:20260517T080000Z
DTEND:20260517T090000Z
DTSTAMP:20260421T193659Z
END:VEVENT

END:VCALENDAR