BEGIN:VCALENDAR
VERSION:2.0
PRODID:nkc_event TYPO3 Extension
METHOD:PUBLISH
BEGIN:VEVENT
UID:ba5e5a7a0c95724620c210dcd54ae82d
LOCATION:Vicelin-Kirche St. Jakobi
SUMMARY:Konfirmations-Gottesdienst\, Pastorin Egener
DESCRIPTION:
CLASS:PUBLIC
DTSTART:20260530T120000Z
DTEND:20260530T130000Z
DTSTAMP:20260423T170854Z
END:VEVENT

END:VCALENDAR