BEGIN:VCALENDAR
VERSION:2.0
PRODID:nkc_event TYPO3 Extension
METHOD:PUBLISH
BEGIN:VEVENT
UID:c751172ff0a7fac73c84a6257924a1fe
LOCATION:Rethwisch":" Jugendkeller
SUMMARY:Jugendkeller Rethwisch
DESCRIPTION:
CLASS:PUBLIC
DTSTART:20261118T150000Z
DTEND:20261118T180000Z
DTSTAMP:20260422T150618Z
END:VEVENT

END:VCALENDAR