BEGIN:VCALENDAR
VERSION:2.0
PRODID:nkc_event TYPO3 Extension
METHOD:PUBLISH
BEGIN:VEVENT
UID:1ca2b8d66a93a46921e56a3b5354a420
LOCATION:Raum Zastrowstr.
SUMMARY:Passionsandacht
DESCRIPTION:Bewegte PassionsandachtenMit Gefühl! 7 Wochen ohne Härte. Unter diesem Motto steht die diesjährige Fastenaktion. Ralf Meister\, Landesbischof in Hannover und Botschafter dieser Aktion\, ruft dazu auf":"„Lassen Sie uns mit Gefühl durch die Passionstage gehen\, auf Ostern zu. Lassen Sie uns fühlen\, wie lebendig das Leben sein kann\, wenn es jenseits aller Härte neu wird!“ In den kommenden sechs Passionsandachten\, wollen wir diesem Fühlen auf ganzheitlichem Weg\, über Körperausdruck\, Bewegung\, einfache Tanzimprovisation und Reflexion nachspüren.Tanzerfahrung ist hierfür nicht erforderlich. Alle\, die Freude daran haben und offen dafür sind\, sich über Tanz und Bewegung auszudrücken\, sind herzlich willkommen.Termine":" 25. Februar\, 4. März\, 11. März\, 18. März\, 25. März\, 1. Apriljeweils um 18.30 Uhr in Vicelin\, im Gemeinderaum ZastrowstraßeAnne Jordan
CLASS:PUBLIC
DTSTART:20260311T173000Z
DTEND:20260311T183000Z
DTSTAMP:20260422T105824Z
END:VEVENT

END:VCALENDAR