BEGIN:VCALENDAR
VERSION:2.0
PRODID:nkc_event TYPO3 Extension
METHOD:PUBLISH
BEGIN:VEVENT
UID:249381029f078deddf2112da60ef2516
LOCATION:St.Laurentius-Kirche in Kosel
SUMMARY:Morgenlob
DESCRIPTION:
CLASS:PUBLIC
DTSTART:20260512T073000Z
DTEND:20260512T083000Z
DTSTAMP:20260425T221600Z
END:VEVENT

END:VCALENDAR