BEGIN:VCALENDAR
VERSION:2.0
PRODID:nkc_event TYPO3 Extension
METHOD:PUBLISH
BEGIN:VEVENT
UID:88d4d62a4da19132aae5f1dfc0f31972
LOCATION:Erlöserkirche Borgfelde
SUMMARY:Interkultureller Gottesdienst
DESCRIPTION:
CLASS:PUBLIC
DTSTART:20260524T090000Z
DTEND:20260524T100000Z
DTSTAMP:20260420T152008Z
END:VEVENT

END:VCALENDAR