BEGIN:VCALENDAR
VERSION:2.0
PRODID:nkc_event TYPO3 Extension
METHOD:PUBLISH
BEGIN:VEVENT
UID:2582423c8aa1412b15a2b71910a76735
LOCATION:Friedenskirche
SUMMARY:Familiengottesdienst am Ostersonntag
DESCRIPTION:
CLASS:PUBLIC
DTSTART:20260405T080000Z
DTEND:20260405T090000Z
DTSTAMP:20260420T091330Z
END:VEVENT

END:VCALENDAR