BEGIN:VCALENDAR
VERSION:2.0
PRODID:nkc_event TYPO3 Extension
METHOD:PUBLISH
BEGIN:VEVENT
UID:eb503665d43d72e3f317c32e23459bc1
LOCATION:Kölln-Reisiek Uhlenhoff
SUMMARY:Freiluft Familiengottesdienst
DESCRIPTION:Wir feiern einen bunten\, fröhlichen Familiengottesdienst unter freiem Himmel.Die Band AufTAKT gestaltet den Gottesdienst musikalisch (Vera Langmaack\, Gesang\; Petra Pensky\, Saxophon\; Thorsten Pensky\, Schlagzeug\; Matthias Menzel\, Klavier\; Britta Stender\, Bass).Es wirken mit":"  Björn Scholz\, Pastorin Britta Stender\, Gemeinschftspastorin Anja Hahn und Diakonin Vera Langmaack.Im Anschluss an den Gottesdienst bewirtet uns der Uhlenhoff mit Grillwurst und Kaffee & Kuchen (kostenpflichtig).\n
CLASS:PUBLIC
DTSTART:20260514T090000Z
DTEND:20260514T100000Z
DTSTAMP:20260421T235408Z
END:VEVENT

END:VCALENDAR