BEGIN:VCALENDAR
VERSION:2.0
PRODID:nkc_event TYPO3 Extension
METHOD:PUBLISH
BEGIN:VEVENT
UID:e9393f5f5e44dd814c7a72fbfc60966c
LOCATION:Ev. Kirchengemeinde St. Marien Barth
SUMMARY:Seminar „Paul Gerhard und seine Lieder“ - Für":" fortgeschrittene Bläser
DESCRIPTION:Info und Anmeldung":" www.posaunenwerk-emvau.de
CLASS:PUBLIC
DTSTART:20260904T080000Z
DTEND:20260904T180000Z
DTSTAMP:20260422T032209Z
END:VEVENT

END:VCALENDAR