BEGIN:VCALENDAR
VERSION:2.0
PRODID:nkc_event TYPO3 Extension
METHOD:PUBLISH
BEGIN:VEVENT
UID:de90a54bb6c3b8610c7902c3757e970b
LOCATION:Altes Pastorat
SUMMARY:Sankt Nikolai Flensburg":" Politisches Abendgebet
DESCRIPTION:Seit über 50 Jahren engagieren sich Bürgerrechtsgruppen “von unten” in Deutschland für Frieden und Gerechtigkeit (siehe z.B. Politisches Nachtgebet/ Dorothee Sölle).Diese Tradition möchte die Aktionsgruppe KLIMA Flensburg (AKF) aufnehmen mit dem Politischen Abendgebet.Die Veranstaltung findet jeden ersten Montag im Monat um 18 Uhr in St. Nikolai am Südermarkt/Flensburg statt und dauert ca. 45 Minuten.Die AKF-AG “Politisches Abendgebet” lädt jeden Monat andere engagierte MitbürgerInnen ein\, um über aktuelle politische Themen und Herausforderungen zu berichten und zum Nachdenken anzuregen. Musik\, Meditation und Gebet sollen dazu beitragen\, einen Raum zu schaffen zur Stärkung\, Motivierung und Vernetzung.”
CLASS:PUBLIC
DTSTART:20260504T160000Z
DTEND:20260504T170000Z
DTSTAMP:20260422T123452Z
END:VEVENT

END:VCALENDAR