BEGIN:VCALENDAR
VERSION:2.0
PRODID:nkc_event TYPO3 Extension
METHOD:PUBLISH
BEGIN:VEVENT
UID:b12612bd5ff0b7c40159cf48b0276033
LOCATION:Jakobikirche Kiel
SUMMARY:Taizéandacht
DESCRIPTION:
CLASS:PUBLIC
DTSTART:20260513T170000Z
DTEND:20260513T180000Z
DTSTAMP:20260422T123420Z
END:VEVENT

END:VCALENDAR