BEGIN:VCALENDAR
VERSION:2.0
PRODID:nkc_event TYPO3 Extension
METHOD:PUBLISH
BEGIN:VEVENT
UID:e0bbf09dad46f53918d75379a2665e14
LOCATION:Lindenhof Kapelle
SUMMARY:Einladung zum Gottesdienst in die Kapelle Lindenhof
DESCRIPTION:
CLASS:PUBLIC
DTSTART:20260517T070000Z
DTEND:20260517T080000Z
DTSTAMP:20260423T162013Z
END:VEVENT

END:VCALENDAR