BEGIN:VCALENDAR
VERSION:2.0
PRODID:nkc_event TYPO3 Extension
METHOD:PUBLISH
BEGIN:VEVENT
UID:2afe4a721b63aa6a4147c6ff6d9233e6
LOCATION:Thomaskirche
SUMMARY:Gottesdienst (mit der Möglichkeit\, anschließend gemeinsam zu essen - Mitbringbuffet)
DESCRIPTION:
CLASS:PUBLIC
DTSTART:20260524T090000Z
DTEND:20260524T100000Z
DTSTAMP:20260425T160257Z
END:VEVENT

END:VCALENDAR