BEGIN:VCALENDAR
VERSION:2.0
PRODID:nkc_event TYPO3 Extension
METHOD:PUBLISH
BEGIN:VEVENT
UID:807fd2c4b062cc73324ffc96470aa4fe
LOCATION:Gemeindehaus II
SUMMARY:ABENTEUERLAND
DESCRIPTION:
CLASS:PUBLIC
DTSTART:20260807T133000Z
DTEND:20260807T143000Z
DTSTAMP:20260425T112108Z
END:VEVENT

END:VCALENDAR