BEGIN:VCALENDAR
VERSION:2.0
PRODID:nkc_event TYPO3 Extension
METHOD:PUBLISH
BEGIN:VEVENT
UID:288cbf34e965dab9a4a192db9adf18c3
LOCATION:Parkplatz EDEKA Meyer`s
SUMMARY:Gottesdienst zum Stadtteilfest
DESCRIPTION:Openair Gottesdienst auf der Bühne vom EDEKA Parkplatz in Wittorf
CLASS:PUBLIC
DTSTART:20260628T080000Z
DTEND:20260628T090000Z
DTSTAMP:20260425T160117Z
END:VEVENT

END:VCALENDAR