BEGIN:VCALENDAR
VERSION:2.0
PRODID:nkc_event TYPO3 Extension
METHOD:PUBLISH
BEGIN:VEVENT
UID:a5f79fdfa9208606e35cd0ea4e86a594
LOCATION:https://www.youtube.com/channel/UCBo-WkPXb_39N1EjFLh9n1A
SUMMARY:Gottesdienst\, in der Kirche und auf YouTube
DESCRIPTION:Alle sind herzlich eingeladen\, mit uns Gottesdienst  zu feiern
CLASS:PUBLIC
DTSTART:20260517T080000Z
DTEND:20260517T090000Z
DTSTAMP:20260425T210213Z
END:VEVENT

END:VCALENDAR