BEGIN:VCALENDAR
VERSION:2.0
PRODID:nkc_event TYPO3 Extension
METHOD:PUBLISH
BEGIN:VEVENT
UID:f1e1a8382e230ee519d1dc929079d73a
LOCATION:Bibelgesprächskreis
SUMMARY:Bibelgesprächskreis
DESCRIPTION:
CLASS:PUBLIC
DTSTART:20260617T173000Z
DTEND:20260617T183000Z
DTSTAMP:20260422T014821Z
END:VEVENT

END:VCALENDAR