BEGIN:VCALENDAR
VERSION:2.0
PRODID:nkc_event TYPO3 Extension
METHOD:PUBLISH
BEGIN:VEVENT
UID:627fc6b0b77eb40557b7e5a11cea997d
LOCATION:Kirche St. Johannis zu Hamburg-Eppendorf
SUMMARY:Lieder für Tenor und Harfe
DESCRIPTION:
CLASS:PUBLIC
DTSTART:20260509T160000Z
DTEND:20260509T170000Z
DTSTAMP:20260423T085401Z
END:VEVENT

END:VCALENDAR