BEGIN:VCALENDAR
VERSION:2.0
PRODID:nkc_event TYPO3 Extension
METHOD:PUBLISH
BEGIN:VEVENT
UID:47fd05203524176c4be53a2422dad178
LOCATION:https://www.youtube.com/channel/UCBo-WkPXb_39N1EjFLh9n1A
SUMMARY:Kindergottesdienst
DESCRIPTION:Herzliche Einladung zum Kindergottesdienst mit Kinder-Lobpreis und kreativen und spielerischen Aktionen
CLASS:PUBLIC
DTSTART:20260621T080000Z
DTEND:20260621T090000Z
DTSTAMP:20260425T210217Z
END:VEVENT

END:VCALENDAR