BEGIN:VCALENDAR
VERSION:2.0
PRODID:nkc_event TYPO3 Extension
METHOD:PUBLISH
BEGIN:VEVENT
UID:f70f3041011eeb66430dd3c6dad702fb
LOCATION:Hl Dreieinigkeitskirche (St. Georgskirche)
SUMMARY:Orchester ´91
DESCRIPTION:
CLASS:PUBLIC
DTSTART:20260614T150000Z
DTEND:20260614T160000Z
DTSTAMP:20260420T113543Z
END:VEVENT

END:VCALENDAR