BEGIN:VCALENDAR
VERSION:2.0
PRODID:nkc_event TYPO3 Extension
METHOD:PUBLISH
BEGIN:VEVENT
UID:0b0ca3d28c8ad53f1aafad65e9a878f2
LOCATION:St. Laurentii Itzehoe
SUMMARY:Jubiläumskonzert":" 50 Jahre Oelixdorfer Musikzug
DESCRIPTION:Der Oelixdorfer Musikzug e.V. wurde 1975 gegründet und gehört seitdem zum kulturellen Leben von Oelixdorf. Im Laufe der vergangenen 50 Jahre entwickelte sich der Verein zu einem stattlichen Blasorchester mit zurzeit 50 aktiven Musikerinnen und Musikern im Alter von 8 – 60 Jahren. Im Rahmen des Jubiläums musiziert der Oelixdorfer Musikzug gemeinsam mit dem Blasorchester Flutissima aus Bardowick.Eintritt frei – Spenden erbeten
CLASS:PUBLIC
DTSTART:20250329T160000Z
DTEND:20250329T170000Z
DTSTAMP:20260425T021345Z
END:VEVENT

END:VCALENDAR