BEGIN:VCALENDAR
VERSION:2.0
PRODID:nkc_event TYPO3 Extension
METHOD:PUBLISH
BEGIN:VEVENT
UID:fc8c1b21673b4a2170d4d22d631a27e0
LOCATION:AWO-Servicehaus Boksberg
SUMMARY:Heimgottesdienst
DESCRIPTION:
CLASS:PUBLIC
DTSTART:20260219T083000Z
DTEND:20260219T093000Z
DTSTAMP:20260420T091408Z
END:VEVENT

END:VCALENDAR